BEGIN:VCALENDAR
VERSION:2.0
PRODID:-//www.rmdc.net//NONSGML kigkonsult.se iCalcreator 2.30.10//
CALSCALE:GREGORIAN
METHOD:PUBLISH
UID:d0789fac-2f74-482d-8312-38c081c24f83
X-WR-CALDESC:
X-WR-RELCALID:1158a7bcdf0703b94768aa58003c936f
X-WR-TIMEZONE:America/Denver
BEGIN:VTIMEZONE
TZID:America/Denver
BEGIN:STANDARD
TZNAME:MST
DTSTART:20271107T020000
TZOFFSETFROM:-0600
TZOFFSETTO:-0700
RDATE:20281105T020000
END:STANDARD
BEGIN:DAYLIGHT
TZNAME:MDT
DTSTART:20270314T020000
TZOFFSETFROM:-0700
TZOFFSETTO:-0600
RDATE:20280312T020000
RDATE:20290311T020000
END:DAYLIGHT
END:VTIMEZONE
BEGIN:VEVENT
UID:5e3c28c7-08bf-4a75-9351-1161f471c679
DTSTAMP:20260421T131440Z
DESCRIPTION:
DTSTART;TZID=America/Denver:20280111T130000
DTEND;TZID=America/Denver:20280111T160000
LOCATION:
SUMMARY:Pinochle
END:VEVENT
END:VCALENDAR
