BEGIN:VCALENDAR
VERSION:2.0
PRODID:-//www.rmdc.net//NONSGML kigkonsult.se iCalcreator 2.30.10//
CALSCALE:GREGORIAN
METHOD:PUBLISH
UID:1549afe9-b533-41b8-9b0b-93d66217a710
X-WR-CALDESC:This is a FREE class where you can preserve memories and creat
 e works of art through scrapbooking. This class is open to the public\, an
 d all materials are provided.
X-WR-RELCALID:104b10a9b3727bf4cc70e456e2ee911c
X-WR-TIMEZONE:America/Denver
BEGIN:VTIMEZONE
TZID:America/Denver
BEGIN:STANDARD
TZNAME:MST
DTSTART:20271107T020000
TZOFFSETFROM:-0600
TZOFFSETTO:-0700
RDATE:20281105T020000
END:STANDARD
BEGIN:DAYLIGHT
TZNAME:MDT
DTSTART:20270314T020000
TZOFFSETFROM:-0700
TZOFFSETTO:-0600
RDATE:20280312T020000
RDATE:20290311T020000
END:DAYLIGHT
END:VTIMEZONE
BEGIN:VEVENT
UID:24b37fad-d4f0-4ac1-81c3-fb3831295bba
DTSTAMP:20260421T131633Z
DESCRIPTION:This is a FREE class where you can preserve memories and create
  works of art through scrapbooking. This class is open to the public\, and
  all materials are provided.
DTSTART;TZID=America/Denver:20280113T040000
DTEND;TZID=America/Denver:20280113T040001
LOCATION:200 South Cruse\, Helena\, AL 59601 US
SUMMARY:Scrapbooking with JoJo
END:VEVENT
END:VCALENDAR
