BEGIN:VCALENDAR
VERSION:2.0
PRODID:-//www.rmdc.net//NONSGML kigkonsult.se iCalcreator 2.30.10//
CALSCALE:GREGORIAN
METHOD:PUBLISH
UID:cc683b4c-a48b-449c-99b2-b0950704a613
X-WR-CALDESC:
X-WR-RELCALID:b6e63297e857e921a5ae6909ea16e799
X-WR-TIMEZONE:America/Denver
BEGIN:VTIMEZONE
TZID:America/Denver
BEGIN:STANDARD
TZNAME:MST
DTSTART:20271107T020000
TZOFFSETFROM:-0600
TZOFFSETTO:-0700
RDATE:20281105T020000
END:STANDARD
BEGIN:DAYLIGHT
TZNAME:MDT
DTSTART:20270314T020000
TZOFFSETFROM:-0700
TZOFFSETTO:-0600
RDATE:20280312T020000
RDATE:20290311T020000
END:DAYLIGHT
END:VTIMEZONE
BEGIN:VEVENT
UID:b12a3dc0-41f5-405a-8f3e-88b9a926ea86
DTSTAMP:20260421T131348Z
DESCRIPTION:
DTSTART;TZID=America/Denver:20280116T130000
DTEND;TZID=America/Denver:20280116T160000
LOCATION:
SUMMARY:Pinochle
END:VEVENT
END:VCALENDAR
