BEGIN:VCALENDAR
VERSION:2.0
PRODID:-//www.rmdc.net//NONSGML kigkonsult.se iCalcreator 2.30.10//
CALSCALE:GREGORIAN
METHOD:PUBLISH
UID:74744b96-8371-4aca-af88-d52fe29c97bd
X-WR-CALDESC:
X-WR-RELCALID:7f7fdde3d7f039a7b149cdf8030f7dd4
X-WR-TIMEZONE:America/Denver
BEGIN:VTIMEZONE
TZID:America/Denver
BEGIN:STANDARD
TZNAME:MST
DTSTART:20271107T020000
TZOFFSETFROM:-0600
TZOFFSETTO:-0700
RDATE:20281105T020000
END:STANDARD
BEGIN:DAYLIGHT
TZNAME:MDT
DTSTART:20270314T020000
TZOFFSETFROM:-0700
TZOFFSETTO:-0600
RDATE:20280312T020000
RDATE:20290311T020000
END:DAYLIGHT
END:VTIMEZONE
BEGIN:VEVENT
UID:62551cac-8d14-4927-bb3a-5bba818fbee7
DTSTAMP:20260421T131440Z
DESCRIPTION:
DTSTART;TZID=America/Denver:20280118T130000
DTEND;TZID=America/Denver:20280118T160000
LOCATION:
SUMMARY:Pinochle
END:VEVENT
END:VCALENDAR
