BEGIN:VCALENDAR
VERSION:2.0
PRODID:-//www.rmdc.net//NONSGML kigkonsult.se iCalcreator 2.30.10//
CALSCALE:GREGORIAN
METHOD:PUBLISH
UID:9602b51c-fc1c-497a-9aec-3b06dc14ffe8
X-WR-CALDESC:Join us for a gentle exercise class!
X-WR-RELCALID:865192d879f48439e5f3ba192b9f2ed3
X-WR-TIMEZONE:America/Denver
BEGIN:VTIMEZONE
TZID:America/Denver
BEGIN:STANDARD
TZNAME:MST
DTSTART:20271107T020000
TZOFFSETFROM:-0600
TZOFFSETTO:-0700
RDATE:20281105T020000
END:STANDARD
BEGIN:DAYLIGHT
TZNAME:MDT
DTSTART:20270314T020000
TZOFFSETFROM:-0700
TZOFFSETTO:-0600
RDATE:20280312T020000
RDATE:20290311T020000
END:DAYLIGHT
END:VTIMEZONE
BEGIN:VEVENT
UID:87e18f0d-4e51-4b5d-8b2f-d5c06f61595d
DTSTAMP:20260421T131427Z
DESCRIPTION:Join us for a gentle exercise class!
DTSTART;TZID=America/Denver:20280119T103000
DTEND;TZID=America/Denver:20280119T110000
LOCATION:200 South Cruse\, Helena\, MT 59601 US
SUMMARY:Chi Gong
END:VEVENT
END:VCALENDAR
