BEGIN:VCALENDAR
VERSION:2.0
PRODID:-//www.rmdc.net//NONSGML kigkonsult.se iCalcreator 2.30.10//
CALSCALE:GREGORIAN
METHOD:PUBLISH
UID:533cab63-2341-43a9-b74d-1843641b79da
X-WR-CALDESC:
X-WR-RELCALID:86dcefbfc77fc8726164c0f269d26fcb
X-WR-TIMEZONE:America/Denver
BEGIN:VTIMEZONE
TZID:America/Denver
BEGIN:STANDARD
TZNAME:MST
DTSTART:20271107T020000
TZOFFSETFROM:-0600
TZOFFSETTO:-0700
RDATE:20281105T020000
END:STANDARD
BEGIN:DAYLIGHT
TZNAME:MDT
DTSTART:20270314T020000
TZOFFSETFROM:-0700
TZOFFSETTO:-0600
RDATE:20280312T020000
RDATE:20290311T020000
END:DAYLIGHT
END:VTIMEZONE
BEGIN:VEVENT
UID:fd3459ac-7697-4f6a-9eac-8bbec0f4b838
DTSTAMP:20260421T131429Z
DESCRIPTION:
DTSTART;TZID=America/Denver:20280125T130000
DTEND;TZID=America/Denver:20280125T160000
LOCATION:
SUMMARY:Pinochle
END:VEVENT
END:VCALENDAR
