BEGIN:VCALENDAR
VERSION:2.0
PRODID:-//www.rmdc.net//NONSGML kigkonsult.se iCalcreator 2.30.10//
CALSCALE:GREGORIAN
METHOD:PUBLISH
UID:6aa215d5-6016-4b00-bb2e-e7630bc674ce
X-WR-CALDESC:Join us for a gentle exercise class!
X-WR-RELCALID:bca68ef96e91950cb611e27316b34484
X-WR-TIMEZONE:America/Denver
BEGIN:VTIMEZONE
TZID:America/Denver
BEGIN:STANDARD
TZNAME:MST
DTSTART:20271107T020000
TZOFFSETFROM:-0600
TZOFFSETTO:-0700
RDATE:20281105T020000
END:STANDARD
BEGIN:DAYLIGHT
TZNAME:MDT
DTSTART:20270314T020000
TZOFFSETFROM:-0700
TZOFFSETTO:-0600
RDATE:20280312T020000
RDATE:20290311T020000
END:DAYLIGHT
END:VTIMEZONE
BEGIN:VEVENT
UID:cbc41fd9-fa5c-4f26-af61-28602e578d6f
DTSTAMP:20260421T131341Z
DESCRIPTION:Join us for a gentle exercise class!
DTSTART;TZID=America/Denver:20280126T103000
DTEND;TZID=America/Denver:20280126T110000
LOCATION:200 South Cruse\, Helena\, MT 59601 US
SUMMARY:Chi Gong
END:VEVENT
END:VCALENDAR
