BEGIN:VCALENDAR
VERSION:2.0
PRODID:-//www.rmdc.net//NONSGML kigkonsult.se iCalcreator 2.30.10//
CALSCALE:GREGORIAN
METHOD:PUBLISH
UID:95542bf4-2667-4a14-9596-3a9d29041c6e
X-WR-CALDESC:
X-WR-RELCALID:7715d1fee030e7751402355b1d5abb7b
X-WR-TIMEZONE:America/Denver
BEGIN:VTIMEZONE
TZID:America/Denver
BEGIN:STANDARD
TZNAME:MST
DTSTART:20271107T020000
TZOFFSETFROM:-0600
TZOFFSETTO:-0700
RDATE:20281105T020000
END:STANDARD
BEGIN:DAYLIGHT
TZNAME:MDT
DTSTART:20270314T020000
TZOFFSETFROM:-0700
TZOFFSETTO:-0600
RDATE:20280312T020000
RDATE:20290311T020000
END:DAYLIGHT
END:VTIMEZONE
BEGIN:VEVENT
UID:19b9afea-7bc4-4a6c-b047-b6b4959a2f48
DTSTAMP:20260421T183710Z
DESCRIPTION:
DTSTART;TZID=America/Denver:20280206T130000
DTEND;TZID=America/Denver:20280206T160000
LOCATION:
SUMMARY:Pinochle
END:VEVENT
END:VCALENDAR
