BEGIN:VCALENDAR
VERSION:2.0
PRODID:-//www.rmdc.net//NONSGML kigkonsult.se iCalcreator 2.30.10//
CALSCALE:GREGORIAN
METHOD:PUBLISH
UID:b0e0a8ce-96a1-43c7-b5d8-a584a0190f71
X-WR-CALDESC:
X-WR-RELCALID:a34aec5355bb9cc44fde3551a015426c
X-WR-TIMEZONE:America/Denver
BEGIN:VTIMEZONE
TZID:America/Denver
BEGIN:STANDARD
TZNAME:MST
DTSTART:20271107T020000
TZOFFSETFROM:-0600
TZOFFSETTO:-0700
RDATE:20281105T020000
END:STANDARD
BEGIN:DAYLIGHT
TZNAME:MDT
DTSTART:20270314T020000
TZOFFSETFROM:-0700
TZOFFSETTO:-0600
RDATE:20280312T020000
RDATE:20290311T020000
END:DAYLIGHT
END:VTIMEZONE
BEGIN:VEVENT
UID:20c5f45d-415c-423d-b5fc-3585bb34af36
DTSTAMP:20260421T150947Z
DESCRIPTION:
DTSTART;TZID=America/Denver:20280227T130000
DTEND;TZID=America/Denver:20280227T160000
LOCATION:
SUMMARY:Pinochle
END:VEVENT
END:VCALENDAR
