BEGIN:VCALENDAR
VERSION:2.0
PRODID:-//www.rmdc.net//NONSGML kigkonsult.se iCalcreator 2.30.10//
CALSCALE:GREGORIAN
METHOD:PUBLISH
UID:c4197124-4644-4e9f-9d20-a1b3615f1375
X-WR-CALDESC:
X-WR-RELCALID:667cf65ddabadb7b0a3481371c6cf66a
X-WR-TIMEZONE:America/Denver
BEGIN:VTIMEZONE
TZID:America/Denver
BEGIN:STANDARD
TZNAME:MST
DTSTART:20271107T020000
TZOFFSETFROM:-0600
TZOFFSETTO:-0700
RDATE:20281105T020000
END:STANDARD
BEGIN:DAYLIGHT
TZNAME:MDT
DTSTART:20280312T020000
TZOFFSETFROM:-0700
TZOFFSETTO:-0600
RDATE:20290311T020000
END:DAYLIGHT
END:VTIMEZONE
BEGIN:VEVENT
UID:07ea2b08-8581-47fb-8550-a25259f6eafc
DTSTAMP:20260421T175704Z
DESCRIPTION:
DTSTART;TZID=America/Denver:20280409T130000
DTEND;TZID=America/Denver:20280409T160000
LOCATION:
SUMMARY:Pinochle
END:VEVENT
END:VCALENDAR
