BEGIN:VCALENDAR
VERSION:2.0
PRODID:-//www.rmdc.net//NONSGML kigkonsult.se iCalcreator 2.30.10//
CALSCALE:GREGORIAN
METHOD:PUBLISH
UID:a2d17b8e-2fee-4e6c-96a9-6a4b95d8f297
X-WR-CALDESC:
X-WR-RELCALID:cde7a18a31f0f9e631460f44f4c46821
X-WR-TIMEZONE:America/Denver
BEGIN:VTIMEZONE
TZID:America/Denver
BEGIN:STANDARD
TZNAME:MST
DTSTART:20271107T020000
TZOFFSETFROM:-0600
TZOFFSETTO:-0700
RDATE:20281105T020000
END:STANDARD
BEGIN:DAYLIGHT
TZNAME:MDT
DTSTART:20280312T020000
TZOFFSETFROM:-0700
TZOFFSETTO:-0600
RDATE:20290311T020000
END:DAYLIGHT
END:VTIMEZONE
BEGIN:VEVENT
UID:95066a1d-c70f-475a-85b5-26fd42f7045d
DTSTAMP:20260421T175703Z
DESCRIPTION:
DTSTART;TZID=America/Denver:20280411T130000
DTEND;TZID=America/Denver:20280411T160000
LOCATION:
SUMMARY:Pinochle
END:VEVENT
END:VCALENDAR
