BEGIN:VCALENDAR
VERSION:2.0
PRODID:-//www.rmdc.net//NONSGML kigkonsult.se iCalcreator 2.30.10//
CALSCALE:GREGORIAN
METHOD:PUBLISH
UID:df8c23af-2edb-4f96-8e6b-8ba6fce249e1
X-WR-CALDESC:Join us for a gentle exercise class!
X-WR-RELCALID:4fc080e708f4532f8d53ae90fecc20a8
X-WR-TIMEZONE:America/Denver
BEGIN:VTIMEZONE
TZID:America/Denver
BEGIN:STANDARD
TZNAME:MST
DTSTART:20271107T020000
TZOFFSETFROM:-0600
TZOFFSETTO:-0700
RDATE:20281105T020000
END:STANDARD
BEGIN:DAYLIGHT
TZNAME:MDT
DTSTART:20280312T020000
TZOFFSETFROM:-0700
TZOFFSETTO:-0600
RDATE:20290311T020000
END:DAYLIGHT
END:VTIMEZONE
BEGIN:VEVENT
UID:2b8ec3b8-ff71-415a-90a9-39c84fafaaeb
DTSTAMP:20260421T175709Z
DESCRIPTION:Join us for a gentle exercise class!
DTSTART;TZID=America/Denver:20280412T103000
DTEND;TZID=America/Denver:20280412T110000
LOCATION:200 South Cruse\, Helena\, MT 59601 US
SUMMARY:Chi Gong
END:VEVENT
END:VCALENDAR
