BEGIN:VCALENDAR
VERSION:2.0
PRODID:-//www.rmdc.net//NONSGML kigkonsult.se iCalcreator 2.30.10//
CALSCALE:GREGORIAN
METHOD:PUBLISH
UID:3c13675d-ef27-42e6-ab04-5e22fe9901f2
X-WR-CALDESC:
X-WR-RELCALID:8aae7775f85f066378805bfb4394adbb
X-WR-TIMEZONE:America/Denver
BEGIN:VTIMEZONE
TZID:America/Denver
BEGIN:STANDARD
TZNAME:MST
DTSTART:20271107T020000
TZOFFSETFROM:-0600
TZOFFSETTO:-0700
RDATE:20281105T020000
END:STANDARD
BEGIN:DAYLIGHT
TZNAME:MDT
DTSTART:20280312T020000
TZOFFSETFROM:-0700
TZOFFSETTO:-0600
RDATE:20290311T020000
END:DAYLIGHT
END:VTIMEZONE
BEGIN:VEVENT
UID:a50c8624-075c-4c12-89ee-1707094e8396
DTSTAMP:20260421T175759Z
DESCRIPTION:
DTSTART;TZID=America/Denver:20280416T130000
DTEND;TZID=America/Denver:20280416T160000
LOCATION:
SUMMARY:Pinochle
END:VEVENT
END:VCALENDAR
