BEGIN:VCALENDAR
VERSION:2.0
PRODID:-//www.rmdc.net//NONSGML kigkonsult.se iCalcreator 2.30.10//
CALSCALE:GREGORIAN
METHOD:PUBLISH
UID:8ebcd6a0-2ced-4fde-8320-2c1be7850681
X-WR-CALDESC:
X-WR-RELCALID:95f6b00b1edda0061f235b000e4604a3
X-WR-TIMEZONE:America/Denver
BEGIN:VTIMEZONE
TZID:America/Denver
BEGIN:STANDARD
TZNAME:MST
DTSTART:20271107T020000
TZOFFSETFROM:-0600
TZOFFSETTO:-0700
RDATE:20281105T020000
END:STANDARD
BEGIN:DAYLIGHT
TZNAME:MDT
DTSTART:20280312T020000
TZOFFSETFROM:-0700
TZOFFSETTO:-0600
RDATE:20290311T020000
END:DAYLIGHT
END:VTIMEZONE
BEGIN:VEVENT
UID:03191607-6fca-43d2-a24b-0a3c0874c88b
DTSTAMP:20260421T175825Z
DESCRIPTION:
DTSTART;TZID=America/Denver:20280425T130000
DTEND;TZID=America/Denver:20280425T160000
LOCATION:
SUMMARY:Pinochle
END:VEVENT
END:VCALENDAR
