BEGIN:VCALENDAR
VERSION:2.0
PRODID:-//www.rmdc.net//NONSGML kigkonsult.se iCalcreator 2.30.10//
CALSCALE:GREGORIAN
METHOD:PUBLISH
UID:c049bf72-d76e-4fe4-86fd-fcced695b2a1
X-WR-CALDESC:
X-WR-RELCALID:7cd7e5da575066c320aef651ef187321
X-WR-TIMEZONE:America/Denver
BEGIN:VTIMEZONE
TZID:America/Denver
BEGIN:STANDARD
TZNAME:MST
DTSTART:20271107T020000
TZOFFSETFROM:-0600
TZOFFSETTO:-0700
RDATE:20281105T020000
RDATE:20291104T020000
END:STANDARD
BEGIN:DAYLIGHT
TZNAME:MDT
DTSTART:20280312T020000
TZOFFSETFROM:-0700
TZOFFSETTO:-0600
RDATE:20290311T020000
END:DAYLIGHT
END:VTIMEZONE
BEGIN:VEVENT
UID:2dae17dc-d9da-4002-86e3-21d0b7b2cd85
DTSTAMP:20260421T193144Z
DESCRIPTION:
DTSTART;TZID=America/Denver:20280516T130000
DTEND;TZID=America/Denver:20280516T160000
LOCATION:
SUMMARY:Pinochle
END:VEVENT
END:VCALENDAR
