BEGIN:VCALENDAR
VERSION:2.0
PRODID:-//www.rmdc.net//NONSGML kigkonsult.se iCalcreator 2.30.10//
CALSCALE:GREGORIAN
METHOD:PUBLISH
UID:a8f04cf7-570e-4736-9445-c8e2d837396b
X-WR-CALDESC:
X-WR-RELCALID:e3045644646cc05284766b6c525a586c
X-WR-TIMEZONE:America/Denver
BEGIN:VTIMEZONE
TZID:America/Denver
BEGIN:STANDARD
TZNAME:MST
DTSTART:20271107T020000
TZOFFSETFROM:-0600
TZOFFSETTO:-0700
RDATE:20281105T020000
RDATE:20291104T020000
END:STANDARD
BEGIN:DAYLIGHT
TZNAME:MDT
DTSTART:20280312T020000
TZOFFSETFROM:-0700
TZOFFSETTO:-0600
RDATE:20290311T020000
END:DAYLIGHT
END:VTIMEZONE
BEGIN:VEVENT
UID:7f9aff6e-e837-419a-81e8-7303da732117
DTSTAMP:20260421T193128Z
DESCRIPTION:
DTSTART;TZID=America/Denver:20280523T130000
DTEND;TZID=America/Denver:20280523T160000
LOCATION:
SUMMARY:Pinochle
END:VEVENT
END:VCALENDAR
