BEGIN:VCALENDAR
VERSION:2.0
PRODID:-//www.rmdc.net//NONSGML kigkonsult.se iCalcreator 2.30.10//
CALSCALE:GREGORIAN
METHOD:PUBLISH
UID:a35e6323-4258-4755-95a2-326a0c028659
X-WR-CALDESC:Learn how to use those pesky phones\, tablets\, and laptops in
  this tech-focused class hosted at the Neighborhood Center.
X-WR-RELCALID:91c919877837a36b16151cea92aca26f
X-WR-TIMEZONE:America/Denver
BEGIN:VTIMEZONE
TZID:America/Denver
BEGIN:STANDARD
TZNAME:MST
DTSTART:20271107T020000
TZOFFSETFROM:-0600
TZOFFSETTO:-0700
RDATE:20281105T020000
RDATE:20291104T020000
END:STANDARD
BEGIN:DAYLIGHT
TZNAME:MDT
DTSTART:20280312T020000
TZOFFSETFROM:-0700
TZOFFSETTO:-0600
RDATE:20290311T020000
END:DAYLIGHT
END:VTIMEZONE
BEGIN:VEVENT
UID:c4c8c30d-a4dd-41c7-b275-59fab1f6784e
DTSTAMP:20260421T192807Z
DESCRIPTION:Learn how to use those pesky phones\, tablets\, and laptops in 
 this tech-focused class hosted at the Neighborhood Center.
DTSTART;TZID=America/Denver:20280529T123000
DTEND;TZID=America/Denver:20280529T133000
LOCATION:200 South Cruse\, Helena\, AL 59601 US
SUMMARY:How the Tech Does this this Work?
END:VEVENT
END:VCALENDAR
