BEGIN:VCALENDAR
VERSION:2.0
PRODID:-//www.rmdc.net//NONSGML kigkonsult.se iCalcreator 2.30.10//
CALSCALE:GREGORIAN
METHOD:PUBLISH
UID:8966ab85-40a0-4164-8d4c-ef46b3e45c57
X-WR-CALDESC:
X-WR-RELCALID:0d95dcc22ceea6907801c2b90032e437
X-WR-TIMEZONE:America/Denver
BEGIN:VTIMEZONE
TZID:America/Denver
BEGIN:STANDARD
TZNAME:MST
DTSTART:20271107T020000
TZOFFSETFROM:-0600
TZOFFSETTO:-0700
RDATE:20281105T020000
RDATE:20291104T020000
END:STANDARD
BEGIN:DAYLIGHT
TZNAME:MDT
DTSTART:20280312T020000
TZOFFSETFROM:-0700
TZOFFSETTO:-0600
RDATE:20290311T020000
END:DAYLIGHT
END:VTIMEZONE
BEGIN:VEVENT
UID:409a8726-8ac1-466e-b67d-1ddc32414092
DTSTAMP:20260421T193101Z
DESCRIPTION:
DTSTART;TZID=America/Denver:20280530T130000
DTEND;TZID=America/Denver:20280530T160000
LOCATION:
SUMMARY:Pinochle
END:VEVENT
END:VCALENDAR
