BEGIN:VCALENDAR
VERSION:2.0
PRODID:-//www.rmdc.net//NONSGML kigkonsult.se iCalcreator 2.30.10//
CALSCALE:GREGORIAN
METHOD:PUBLISH
UID:5e090b83-7dd3-4bc5-8ec3-5eeb898fb3b6
X-WR-CALDESC:Meet with Ann\, a representative from Montana Generational Jus
 tice\, for a free consultation on estate planning. \n \nAnn can be found i
 n the Neighborhood Center Dining Room on the second Wednesday of each mont
 h from 11:30 am to 12:30 pm. \n \n
X-WR-RELCALID:dd1749d68376def7cd8d107aad854c61
X-WR-TIMEZONE:America/Denver
BEGIN:VTIMEZONE
TZID:America/Denver
BEGIN:STANDARD
TZNAME:MST
DTSTART:20271107T020000
TZOFFSETFROM:-0600
TZOFFSETTO:-0700
RDATE:20281105T020000
RDATE:20291104T020000
END:STANDARD
BEGIN:DAYLIGHT
TZNAME:MDT
DTSTART:20280312T020000
TZOFFSETFROM:-0700
TZOFFSETTO:-0600
RDATE:20290311T020000
END:DAYLIGHT
END:VTIMEZONE
BEGIN:VEVENT
UID:55650f94-821c-4fb7-a89a-ad7556e83ad5
DTSTAMP:20260421T193427Z
DESCRIPTION:Meet with Ann\, a representative from Montana Generational Just
 ice\, for a free consultation on estate planning. \n \nAnn can be found in
  the Neighborhood Center Dining Room on the second Wednesday of each month
  from 11:30 am to 12:30 pm. \n \n
DTSTART;TZID=America/Denver:20280531T110000
DTEND;TZID=America/Denver:20280531T123000
LOCATION:200 South Cruse\, Helena\, AL 59601 US
SUMMARY:Estate Planning with Ann
END:VEVENT
END:VCALENDAR
