BEGIN:VCALENDAR
VERSION:2.0
PRODID:-//www.rmdc.net//NONSGML kigkonsult.se iCalcreator 2.30.10//
CALSCALE:GREGORIAN
METHOD:PUBLISH
UID:e5e18e38-1abf-4045-b8fb-e7626f4643d2
X-WR-CALDESC:The first Wednesday the Senior Advisory Council holds a monthl
 y meeting from 9:30 am to 10:30 am. If you are interested in becoming a me
 mber of the Senior Advisory Council contact Bill Péna at Bpena@rmdc.net or
  by phone at 406-457-7372.
X-WR-RELCALID:edd9c40e376b23c2d88ade45dbab7be9
X-WR-TIMEZONE:America/Denver
BEGIN:VTIMEZONE
TZID:America/Denver
BEGIN:STANDARD
TZNAME:MST
DTSTART:20271107T020000
TZOFFSETFROM:-0600
TZOFFSETTO:-0700
RDATE:20281105T020000
RDATE:20291104T020000
END:STANDARD
BEGIN:DAYLIGHT
TZNAME:MDT
DTSTART:20280312T020000
TZOFFSETFROM:-0700
TZOFFSETTO:-0600
RDATE:20290311T020000
END:DAYLIGHT
END:VTIMEZONE
BEGIN:VEVENT
UID:d899a15d-79ad-49e9-9825-4cf21031c35c
DTSTAMP:20260421T211612Z
DESCRIPTION:The first Wednesday the Senior Advisory Council holds a monthly
  meeting from 9:30 am to 10:30 am. If you are interested in becoming a mem
 ber of the Senior Advisory Council contact Bill Péna at Bpena@rmdc.net or 
 by phone at 406-457-7372.
DTSTART;TZID=America/Denver:20280607T093000
DTEND;TZID=America/Denver:20280607T103000
LOCATION:200 South Cruse\, Helena\, MT 59601 US
SUMMARY:Senior Advisory Council Meeting
END:VEVENT
END:VCALENDAR
