BEGIN:VCALENDAR
VERSION:2.0
PRODID:-//www.rmdc.net//NONSGML kigkonsult.se iCalcreator 2.30.10//
CALSCALE:GREGORIAN
METHOD:PUBLISH
UID:4926f82d-74f5-4d37-a970-b4710e907649
X-WR-CALDESC:
X-WR-RELCALID:5e5ab0c47836e4c9f8ad1dbd48212caf
X-WR-TIMEZONE:America/Denver
BEGIN:VTIMEZONE
TZID:America/Denver
BEGIN:STANDARD
TZNAME:MST
DTSTART:20271107T020000
TZOFFSETFROM:-0600
TZOFFSETTO:-0700
RDATE:20281105T020000
RDATE:20291104T020000
END:STANDARD
BEGIN:DAYLIGHT
TZNAME:MDT
DTSTART:20280312T020000
TZOFFSETFROM:-0700
TZOFFSETTO:-0600
RDATE:20290311T020000
END:DAYLIGHT
END:VTIMEZONE
BEGIN:VEVENT
UID:4a5c0c88-1abb-4f38-8ca2-5779f7c02fc7
DTSTAMP:20260421T211048Z
DESCRIPTION:
DTSTART;TZID=America/Denver:20280613T130000
DTEND;TZID=America/Denver:20280613T160000
LOCATION:
SUMMARY:Pinochle
END:VEVENT
END:VCALENDAR
