BEGIN:VCALENDAR
VERSION:2.0
PRODID:-//www.rmdc.net//NONSGML kigkonsult.se iCalcreator 2.30.10//
CALSCALE:GREGORIAN
METHOD:PUBLISH
UID:60034205-3152-40e1-bab4-7d46ff1348ec
X-WR-CALDESC:
X-WR-RELCALID:1d034a6f3eef7bd7d2fd4688b92169f3
X-WR-TIMEZONE:America/Denver
BEGIN:VTIMEZONE
TZID:America/Denver
BEGIN:STANDARD
TZNAME:MST
DTSTART:20271107T020000
TZOFFSETFROM:-0600
TZOFFSETTO:-0700
RDATE:20281105T020000
RDATE:20291104T020000
END:STANDARD
BEGIN:DAYLIGHT
TZNAME:MDT
DTSTART:20280312T020000
TZOFFSETFROM:-0700
TZOFFSETTO:-0600
RDATE:20290311T020000
END:DAYLIGHT
END:VTIMEZONE
BEGIN:VEVENT
UID:250c1d9f-f13d-4b49-8990-1d7311b71e83
DTSTAMP:20260421T211225Z
DESCRIPTION:
DTSTART;TZID=America/Denver:20280618T130000
DTEND;TZID=America/Denver:20280618T160000
LOCATION:
SUMMARY:Pinochle
END:VEVENT
END:VCALENDAR
