BEGIN:VCALENDAR
VERSION:2.0
PRODID:-//www.rmdc.net//NONSGML kigkonsult.se iCalcreator 2.30.10//
CALSCALE:GREGORIAN
METHOD:PUBLISH
UID:a0a1020a-c796-4471-b3a3-3a069b36230b
X-WR-CALDESC:Meet with Ann\, a representative from Montana Generational Jus
 tice\, for a free consultation on estate planning. \n \nAnn can be found i
 n the Neighborhood Center Dining Room on the second Wednesday of each mont
 h from 11:30 am to 12:30 pm. \n \n
X-WR-RELCALID:3769386ec56a766cbe027e7e9847d22a
X-WR-TIMEZONE:America/Denver
BEGIN:VTIMEZONE
TZID:America/Denver
BEGIN:STANDARD
TZNAME:MST
DTSTART:20271107T020000
TZOFFSETFROM:-0600
TZOFFSETTO:-0700
RDATE:20281105T020000
RDATE:20291104T020000
END:STANDARD
BEGIN:DAYLIGHT
TZNAME:MDT
DTSTART:20280312T020000
TZOFFSETFROM:-0700
TZOFFSETTO:-0600
RDATE:20290311T020000
END:DAYLIGHT
END:VTIMEZONE
BEGIN:VEVENT
UID:4984ebc4-39f5-46c0-a6d8-76674589bb56
DTSTAMP:20260421T211526Z
DESCRIPTION:Meet with Ann\, a representative from Montana Generational Just
 ice\, for a free consultation on estate planning. \n \nAnn can be found in
  the Neighborhood Center Dining Room on the second Wednesday of each month
  from 11:30 am to 12:30 pm. \n \n
DTSTART;TZID=America/Denver:20280628T110000
DTEND;TZID=America/Denver:20280628T123000
LOCATION:200 South Cruse\, Helena\, AL 59601 US
SUMMARY:Estate Planning with Ann
END:VEVENT
END:VCALENDAR
