BEGIN:VCALENDAR
VERSION:2.0
PRODID:-//www.rmdc.net//NONSGML kigkonsult.se iCalcreator 2.30.10//
CALSCALE:GREGORIAN
METHOD:PUBLISH
UID:73982340-565c-42c3-8182-c6980cd7a34c
X-WR-CALDESC:
X-WR-RELCALID:bd40f52f4f05d1e05b8daf4d60f1dfb5
X-WR-TIMEZONE:America/Denver
BEGIN:VTIMEZONE
TZID:America/Denver
BEGIN:STANDARD
TZNAME:MST
DTSTART:20271107T020000
TZOFFSETFROM:-0600
TZOFFSETTO:-0700
RDATE:20281105T020000
RDATE:20291104T020000
END:STANDARD
BEGIN:DAYLIGHT
TZNAME:MDT
DTSTART:20280312T020000
TZOFFSETFROM:-0700
TZOFFSETTO:-0600
RDATE:20290311T020000
END:DAYLIGHT
END:VTIMEZONE
BEGIN:VEVENT
UID:ff2818f4-3340-4286-91ae-657edda22e4c
DTSTAMP:20260421T211613Z
DESCRIPTION:
DTSTART;TZID=America/Denver:20280628T120000
DTEND;TZID=America/Denver:20280628T133000
LOCATION:Parlor
SUMMARY:Hand and Foot Card Game
END:VEVENT
END:VCALENDAR
