BEGIN:VCALENDAR
VERSION:2.0
PRODID:-//www.rmdc.net//NONSGML kigkonsult.se iCalcreator 2.30.10//
CALSCALE:GREGORIAN
METHOD:PUBLISH
UID:43899e8e-bdd3-4e53-a90c-05ddb0b9e00d
X-WR-CALDESC:
X-WR-RELCALID:16acc51d95038c7fb0ccee015d1de23e
X-WR-TIMEZONE:America/Denver
BEGIN:VTIMEZONE
TZID:America/Denver
BEGIN:STANDARD
TZNAME:MST
DTSTART:20271107T020000
TZOFFSETFROM:-0600
TZOFFSETTO:-0700
RDATE:20281105T020000
RDATE:20291104T020000
END:STANDARD
BEGIN:DAYLIGHT
TZNAME:MDT
DTSTART:20280312T020000
TZOFFSETFROM:-0700
TZOFFSETTO:-0600
RDATE:20290311T020000
END:DAYLIGHT
END:VTIMEZONE
BEGIN:VEVENT
UID:c91700b6-fb92-4b12-8581-4b6206e6dbc6
DTSTAMP:20260421T225350Z
DESCRIPTION:
DTSTART;TZID=America/Denver:20280718T130000
DTEND;TZID=America/Denver:20280718T160000
LOCATION:
SUMMARY:Pinochle
END:VEVENT
END:VCALENDAR
