BEGIN:VCALENDAR
VERSION:2.0
PRODID:-//www.rmdc.net//NONSGML kigkonsult.se iCalcreator 2.30.10//
CALSCALE:GREGORIAN
METHOD:PUBLISH
UID:73977a06-67d5-4666-8473-909b99a07393
X-WR-CALDESC:
X-WR-RELCALID:aba75825664d031dc8f46374b5ae407b
X-WR-TIMEZONE:America/Denver
BEGIN:VTIMEZONE
TZID:America/Denver
BEGIN:STANDARD
TZNAME:MST
DTSTART:20271107T020000
TZOFFSETFROM:-0600
TZOFFSETTO:-0700
RDATE:20281105T020000
RDATE:20291104T020000
END:STANDARD
BEGIN:DAYLIGHT
TZNAME:MDT
DTSTART:20280312T020000
TZOFFSETFROM:-0700
TZOFFSETTO:-0600
RDATE:20290311T020000
END:DAYLIGHT
END:VTIMEZONE
BEGIN:VEVENT
UID:02c03795-ba5d-49d3-9776-de82a007d785
DTSTAMP:20260422T002750Z
DESCRIPTION:
DTSTART;TZID=America/Denver:20280801T130000
DTEND;TZID=America/Denver:20280801T160000
LOCATION:
SUMMARY:Pinochle
END:VEVENT
END:VCALENDAR
