BEGIN:VCALENDAR
VERSION:2.0
PRODID:-//www.rmdc.net//NONSGML kigkonsult.se iCalcreator 2.30.10//
CALSCALE:GREGORIAN
METHOD:PUBLISH
UID:f54d1437-06e0-4120-8ff5-a6da5d31d122
X-WR-CALDESC:Join us for a gentle exercise class!
X-WR-RELCALID:356014f4ccc48beeea1c65a2980dee3e
X-WR-TIMEZONE:America/Denver
BEGIN:VTIMEZONE
TZID:America/Denver
BEGIN:STANDARD
TZNAME:MST
DTSTART:20271107T020000
TZOFFSETFROM:-0600
TZOFFSETTO:-0700
RDATE:20281105T020000
RDATE:20291104T020000
END:STANDARD
BEGIN:DAYLIGHT
TZNAME:MDT
DTSTART:20280312T020000
TZOFFSETFROM:-0700
TZOFFSETTO:-0600
RDATE:20290311T020000
END:DAYLIGHT
END:VTIMEZONE
BEGIN:VEVENT
UID:0e814d48-96ab-4551-b3fb-48da8a61cfe4
DTSTAMP:20260422T002510Z
DESCRIPTION:Join us for a gentle exercise class!
DTSTART;TZID=America/Denver:20280809T103000
DTEND;TZID=America/Denver:20280809T110000
LOCATION:200 South Cruse\, Helena\, MT 59601 US
SUMMARY:Chi Gong
END:VEVENT
END:VCALENDAR
