BEGIN:VCALENDAR
VERSION:2.0
PRODID:-//www.rmdc.net//NONSGML kigkonsult.se iCalcreator 2.30.10//
CALSCALE:GREGORIAN
METHOD:PUBLISH
UID:fbcb0370-3c28-499f-a69a-983b27b99633
X-WR-CALDESC:
X-WR-RELCALID:5583bb96d46007747cc247dc9d59bc07
X-WR-TIMEZONE:America/Denver
BEGIN:VTIMEZONE
TZID:America/Denver
BEGIN:STANDARD
TZNAME:MST
DTSTART:20271107T020000
TZOFFSETFROM:-0600
TZOFFSETTO:-0700
RDATE:20281105T020000
RDATE:20291104T020000
END:STANDARD
BEGIN:DAYLIGHT
TZNAME:MDT
DTSTART:20280312T020000
TZOFFSETFROM:-0700
TZOFFSETTO:-0600
RDATE:20290311T020000
END:DAYLIGHT
END:VTIMEZONE
BEGIN:VEVENT
UID:09f1f23a-c4ce-4ed3-a5ed-b5d2b1bd90f1
DTSTAMP:20260422T002638Z
DESCRIPTION:
DTSTART;TZID=America/Denver:20280809T110000
DTEND;TZID=America/Denver:20280809T120000
LOCATION:200 South Cruse\, Helena\, MT 59601 US
SUMMARY:Tech Time With Mary
END:VEVENT
END:VCALENDAR
