BEGIN:VCALENDAR
VERSION:2.0
PRODID:-//www.rmdc.net//NONSGML kigkonsult.se iCalcreator 2.30.10//
CALSCALE:GREGORIAN
METHOD:PUBLISH
UID:ed181ebb-f433-4b61-9d9c-bda16ae3b983
X-WR-CALDESC:Join us for a gentle exercise class!
X-WR-RELCALID:b31a8f1f941964c94d6898059927957a
X-WR-TIMEZONE:America/Denver
BEGIN:VTIMEZONE
TZID:America/Denver
BEGIN:STANDARD
TZNAME:MST
DTSTART:20271107T020000
TZOFFSETFROM:-0600
TZOFFSETTO:-0700
RDATE:20281105T020000
RDATE:20291104T020000
END:STANDARD
BEGIN:DAYLIGHT
TZNAME:MDT
DTSTART:20280312T020000
TZOFFSETFROM:-0700
TZOFFSETTO:-0600
RDATE:20290311T020000
END:DAYLIGHT
END:VTIMEZONE
BEGIN:VEVENT
UID:e39d5970-86d8-4996-8b53-5b5c64d1e3f9
DTSTAMP:20260422T002752Z
DESCRIPTION:Join us for a gentle exercise class!
DTSTART;TZID=America/Denver:20280823T103000
DTEND;TZID=America/Denver:20280823T110000
LOCATION:200 South Cruse\, Helena\, MT 59601 US
SUMMARY:Chi Gong
END:VEVENT
END:VCALENDAR
