BEGIN:VCALENDAR
VERSION:2.0
PRODID:-//www.rmdc.net//NONSGML kigkonsult.se iCalcreator 2.30.10//
CALSCALE:GREGORIAN
METHOD:PUBLISH
UID:ddf97cc9-c55c-4170-985f-7505e6bba514
X-WR-CALDESC:
X-WR-RELCALID:213c80ef0aa7cc2db893dbb7793e10f3
X-WR-TIMEZONE:America/Denver
BEGIN:VTIMEZONE
TZID:America/Denver
BEGIN:STANDARD
TZNAME:MST
DTSTART:20271107T020000
TZOFFSETFROM:-0600
TZOFFSETTO:-0700
RDATE:20281105T020000
RDATE:20291104T020000
END:STANDARD
BEGIN:DAYLIGHT
TZNAME:MDT
DTSTART:20280312T020000
TZOFFSETFROM:-0700
TZOFFSETTO:-0600
RDATE:20290311T020000
END:DAYLIGHT
END:VTIMEZONE
BEGIN:VEVENT
UID:464467c2-2805-4cf6-bcfa-a691a0ad7efa
DTSTAMP:20260422T002600Z
DESCRIPTION:
DTSTART;TZID=America/Denver:20280829T130000
DTEND;TZID=America/Denver:20280829T160000
LOCATION:
SUMMARY:Pinochle
END:VEVENT
END:VCALENDAR
