BEGIN:VCALENDAR
VERSION:2.0
PRODID:-//www.rmdc.net//NONSGML kigkonsult.se iCalcreator 2.30.10//
CALSCALE:GREGORIAN
METHOD:PUBLISH
UID:4f4fc8ce-a614-4440-9632-d41b9925e1cf
X-WR-CALDESC:
X-WR-RELCALID:0da021db2cbb6961cf002b6596dbb802
X-WR-TIMEZONE:America/Denver
BEGIN:VTIMEZONE
TZID:America/Denver
BEGIN:STANDARD
TZNAME:MST
DTSTART:20271107T020000
TZOFFSETFROM:-0600
TZOFFSETTO:-0700
RDATE:20281105T020000
RDATE:20291104T020000
END:STANDARD
BEGIN:DAYLIGHT
TZNAME:MDT
DTSTART:20280312T020000
TZOFFSETFROM:-0700
TZOFFSETTO:-0600
RDATE:20290311T020000
END:DAYLIGHT
END:VTIMEZONE
BEGIN:VEVENT
UID:759c909f-70f9-48fa-bf02-6b7cb1121af2
DTSTAMP:20260422T020838Z
DESCRIPTION:
DTSTART;TZID=America/Denver:20280903T130000
DTEND;TZID=America/Denver:20280903T160000
LOCATION:
SUMMARY:Pinochle
END:VEVENT
END:VCALENDAR
