BEGIN:VCALENDAR
VERSION:2.0
PRODID:-//www.rmdc.net//NONSGML kigkonsult.se iCalcreator 2.30.10//
CALSCALE:GREGORIAN
METHOD:PUBLISH
UID:c23f44eb-7dbc-4960-a42a-ce7a82030acf
X-WR-CALDESC:
X-WR-RELCALID:5769e4bd11abba3f6a3d77be52dd6868
X-WR-TIMEZONE:America/Denver
BEGIN:VTIMEZONE
TZID:America/Denver
BEGIN:STANDARD
TZNAME:MST
DTSTART:20271107T020000
TZOFFSETFROM:-0600
TZOFFSETTO:-0700
RDATE:20281105T020000
RDATE:20291104T020000
END:STANDARD
BEGIN:DAYLIGHT
TZNAME:MDT
DTSTART:20280312T020000
TZOFFSETFROM:-0700
TZOFFSETTO:-0600
RDATE:20290311T020000
RDATE:20300310T020000
END:DAYLIGHT
END:VTIMEZONE
BEGIN:VEVENT
UID:c9ada30b-4601-4555-b164-8408004875b4
DTSTAMP:20260422T020959Z
DESCRIPTION:
DTSTART;TZID=America/Denver:20280914T130000
DTEND;TZID=America/Denver:20280914T150000
LOCATION:Neighborhood Center Dance Floor
SUMMARY:Wood Carving
END:VEVENT
END:VCALENDAR
