BEGIN:VCALENDAR
VERSION:2.0
PRODID:-//www.rmdc.net//NONSGML kigkonsult.se iCalcreator 2.30.10//
CALSCALE:GREGORIAN
METHOD:PUBLISH
UID:6e1dc207-87eb-4499-9f1c-a0bf490ea7e0
X-WR-CALDESC:
X-WR-RELCALID:dafac138996ac4709dab2519edf9b3bd
X-WR-TIMEZONE:America/Denver
BEGIN:VTIMEZONE
TZID:America/Denver
BEGIN:STANDARD
TZNAME:MST
DTSTART:20271107T020000
TZOFFSETFROM:-0600
TZOFFSETTO:-0700
RDATE:20281105T020000
RDATE:20291104T020000
END:STANDARD
BEGIN:DAYLIGHT
TZNAME:MDT
DTSTART:20280312T020000
TZOFFSETFROM:-0700
TZOFFSETTO:-0600
RDATE:20290311T020000
RDATE:20300310T020000
END:DAYLIGHT
END:VTIMEZONE
BEGIN:VEVENT
UID:db84101c-ca98-465f-ac28-9b3532c110ea
DTSTAMP:20260422T020819Z
DESCRIPTION:
DTSTART;TZID=America/Denver:20280924T130000
DTEND;TZID=America/Denver:20280924T160000
LOCATION:
SUMMARY:Pinochle
END:VEVENT
END:VCALENDAR
