BEGIN:VCALENDAR
VERSION:2.0
PRODID:-//www.rmdc.net//NONSGML kigkonsult.se iCalcreator 2.30.10//
CALSCALE:GREGORIAN
METHOD:PUBLISH
UID:b825ad4c-e4fd-4cf6-bb5c-ec74ca827758
X-WR-CALDESC:
X-WR-RELCALID:a5273b6d732f21287b8ff77d13caea86
X-WR-TIMEZONE:America/Denver
BEGIN:VTIMEZONE
TZID:America/Denver
BEGIN:STANDARD
TZNAME:MST
DTSTART:20271107T020000
TZOFFSETFROM:-0600
TZOFFSETTO:-0700
RDATE:20281105T020000
RDATE:20291104T020000
END:STANDARD
BEGIN:DAYLIGHT
TZNAME:MDT
DTSTART:20280312T020000
TZOFFSETFROM:-0700
TZOFFSETTO:-0600
RDATE:20290311T020000
RDATE:20300310T020000
END:DAYLIGHT
END:VTIMEZONE
BEGIN:VEVENT
UID:5c1f22ff-ddab-4550-9994-b68ac6a9c193
DTSTAMP:20260422T020838Z
DESCRIPTION:
DTSTART;TZID=America/Denver:20280926T130000
DTEND;TZID=America/Denver:20280926T160000
LOCATION:
SUMMARY:Pinochle
END:VEVENT
END:VCALENDAR
