BEGIN:VCALENDAR
VERSION:2.0
PRODID:-//www.rmdc.net//NONSGML kigkonsult.se iCalcreator 2.30.10//
CALSCALE:GREGORIAN
METHOD:PUBLISH
UID:aa0d1b2d-ebdf-4008-b31d-fbd1650a1ede
X-WR-CALDESC:
X-WR-RELCALID:04e86790593c95f42ed9bfe7f8617d87
X-WR-TIMEZONE:America/Denver
BEGIN:VTIMEZONE
TZID:America/Denver
BEGIN:STANDARD
TZNAME:MST
DTSTART:20271107T020000
TZOFFSETFROM:-0600
TZOFFSETTO:-0700
RDATE:20281105T020000
RDATE:20291104T020000
END:STANDARD
BEGIN:DAYLIGHT
TZNAME:MDT
DTSTART:20280312T020000
TZOFFSETFROM:-0700
TZOFFSETTO:-0600
RDATE:20290311T020000
RDATE:20300310T020000
END:DAYLIGHT
END:VTIMEZONE
BEGIN:VEVENT
UID:94d2a626-82e3-47d8-8960-2bbc6cf2d9af
DTSTAMP:20260422T034948Z
DESCRIPTION:
DTSTART;TZID=America/Denver:20281003T130000
DTEND;TZID=America/Denver:20281003T160000
LOCATION:
SUMMARY:Pinochle
END:VEVENT
END:VCALENDAR
