BEGIN:VCALENDAR
VERSION:2.0
PRODID:-//www.rmdc.net//NONSGML kigkonsult.se iCalcreator 2.30.10//
CALSCALE:GREGORIAN
METHOD:PUBLISH
UID:41a9037a-7e63-4721-82ae-dc24f367dfc5
X-WR-CALDESC:
X-WR-RELCALID:e3a7cfbd078647daff5fc18c26a3728e
X-WR-TIMEZONE:America/Denver
BEGIN:VTIMEZONE
TZID:America/Denver
BEGIN:STANDARD
TZNAME:MST
DTSTART:20271107T020000
TZOFFSETFROM:-0600
TZOFFSETTO:-0700
RDATE:20281105T020000
RDATE:20291104T020000
END:STANDARD
BEGIN:DAYLIGHT
TZNAME:MDT
DTSTART:20280312T020000
TZOFFSETFROM:-0700
TZOFFSETTO:-0600
RDATE:20290311T020000
RDATE:20300310T020000
END:DAYLIGHT
END:VTIMEZONE
BEGIN:VEVENT
UID:ddce7782-56c9-43ea-8943-3836f37dfe3e
DTSTAMP:20260422T034931Z
DESCRIPTION:
DTSTART;TZID=America/Denver:20281015T130000
DTEND;TZID=America/Denver:20281015T160000
LOCATION:
SUMMARY:Pinochle
END:VEVENT
END:VCALENDAR
