BEGIN:VCALENDAR
VERSION:2.0
PRODID:-//www.rmdc.net//NONSGML kigkonsult.se iCalcreator 2.30.10//
CALSCALE:GREGORIAN
METHOD:PUBLISH
UID:22465639-642b-40c5-abca-513d48530440
X-WR-CALDESC:
X-WR-RELCALID:363b5e2f212f717a9a7d49978b3d8672
X-WR-TIMEZONE:America/Denver
BEGIN:VTIMEZONE
TZID:America/Denver
BEGIN:STANDARD
TZNAME:MST
DTSTART:20271107T020000
TZOFFSETFROM:-0600
TZOFFSETTO:-0700
RDATE:20281105T020000
RDATE:20291104T020000
END:STANDARD
BEGIN:DAYLIGHT
TZNAME:MDT
DTSTART:20280312T020000
TZOFFSETFROM:-0700
TZOFFSETTO:-0600
RDATE:20290311T020000
RDATE:20300310T020000
END:DAYLIGHT
END:VTIMEZONE
BEGIN:VEVENT
UID:1b9376a6-e656-49fd-bd70-92f5b80cfe2e
DTSTAMP:20260422T034930Z
DESCRIPTION:
DTSTART;TZID=America/Denver:20281031T130000
DTEND;TZID=America/Denver:20281031T160000
LOCATION:
SUMMARY:Pinochle
END:VEVENT
END:VCALENDAR
