BEGIN:VCALENDAR
VERSION:2.0
PRODID:-//www.rmdc.net//NONSGML kigkonsult.se iCalcreator 2.30.10//
CALSCALE:GREGORIAN
METHOD:PUBLISH
UID:13356903-d4b9-4e57-9b97-25df7da28708
X-WR-CALDESC:
X-WR-RELCALID:53f3c01ead00a5653cb80b2339d9deff
X-WR-TIMEZONE:America/Denver
BEGIN:VTIMEZONE
TZID:America/Denver
BEGIN:STANDARD
TZNAME:MST
DTSTART:20281105T020000
TZOFFSETFROM:-0600
TZOFFSETTO:-0700
RDATE:20291104T020000
END:STANDARD
BEGIN:DAYLIGHT
TZNAME:MDT
DTSTART:20280312T020000
TZOFFSETFROM:-0700
TZOFFSETTO:-0600
RDATE:20290311T020000
RDATE:20300310T020000
END:DAYLIGHT
END:VTIMEZONE
BEGIN:VEVENT
UID:a79f2dc7-dbc0-44de-95b3-81e2267a5eed
DTSTAMP:20260422T052755Z
DESCRIPTION:
DTSTART;TZID=America/Denver:20281107T130000
DTEND;TZID=America/Denver:20281107T160000
LOCATION:
SUMMARY:Pinochle
END:VEVENT
END:VCALENDAR
