BEGIN:VCALENDAR
VERSION:2.0
PRODID:-//www.rmdc.net//NONSGML kigkonsult.se iCalcreator 2.30.10//
CALSCALE:GREGORIAN
METHOD:PUBLISH
UID:c21c4b48-0963-46b7-bb62-bc269d95600d
X-WR-CALDESC:Join us for a gentle exercise class!
X-WR-RELCALID:49a30ba372403ba3e8cc204679f9e627
X-WR-TIMEZONE:America/Denver
BEGIN:VTIMEZONE
TZID:America/Denver
BEGIN:STANDARD
TZNAME:MST
DTSTART:20281105T020000
TZOFFSETFROM:-0600
TZOFFSETTO:-0700
RDATE:20291104T020000
END:STANDARD
BEGIN:DAYLIGHT
TZNAME:MDT
DTSTART:20280312T020000
TZOFFSETFROM:-0700
TZOFFSETTO:-0600
RDATE:20290311T020000
RDATE:20300310T020000
END:DAYLIGHT
END:VTIMEZONE
BEGIN:VEVENT
UID:4d3f16af-a8d5-472c-9a83-b9a42255e38e
DTSTAMP:20260422T052731Z
DESCRIPTION:Join us for a gentle exercise class!
DTSTART;TZID=America/Denver:20281115T103000
DTEND;TZID=America/Denver:20281115T110000
LOCATION:200 South Cruse\, Helena\, MT 59601 US
SUMMARY:Chi Gong
END:VEVENT
END:VCALENDAR
