BEGIN:VCALENDAR
VERSION:2.0
PRODID:-//www.rmdc.net//NONSGML kigkonsult.se iCalcreator 2.30.10//
CALSCALE:GREGORIAN
METHOD:PUBLISH
UID:671595a9-a3df-4345-a4f9-731aeb49b8fb
X-WR-CALDESC:
X-WR-RELCALID:c7ca7517d8d54dfdf322c93c409f8a1c
X-WR-TIMEZONE:America/Denver
BEGIN:VTIMEZONE
TZID:America/Denver
BEGIN:STANDARD
TZNAME:MST
DTSTART:20281105T020000
TZOFFSETFROM:-0600
TZOFFSETTO:-0700
RDATE:20291104T020000
END:STANDARD
BEGIN:DAYLIGHT
TZNAME:MDT
DTSTART:20280312T020000
TZOFFSETFROM:-0700
TZOFFSETTO:-0600
RDATE:20290311T020000
RDATE:20300310T020000
END:DAYLIGHT
END:VTIMEZONE
BEGIN:VEVENT
UID:08d28f59-0027-4491-98a2-c143ed2848ef
DTSTAMP:20260422T052447Z
DESCRIPTION:
DTSTART;TZID=America/Denver:20281122T130000
DTEND;TZID=America/Denver:20281122T150000
LOCATION:Dining Room
SUMMARY:Bingo
END:VEVENT
END:VCALENDAR
