BEGIN:VCALENDAR
VERSION:2.0
PRODID:-//www.rmdc.net//NONSGML kigkonsult.se iCalcreator 2.30.10//
CALSCALE:GREGORIAN
METHOD:PUBLISH
UID:118e6377-d8a1-4e87-ab18-4a54d84bc6f4
X-WR-CALDESC:Join us for a gentle exercise class!
X-WR-RELCALID:420944766e2eafd1d830416ad181ecc1
X-WR-TIMEZONE:America/Denver
BEGIN:VTIMEZONE
TZID:America/Denver
BEGIN:STANDARD
TZNAME:MST
DTSTART:20281105T020000
TZOFFSETFROM:-0600
TZOFFSETTO:-0700
RDATE:20291104T020000
END:STANDARD
BEGIN:DAYLIGHT
TZNAME:MDT
DTSTART:20280312T020000
TZOFFSETFROM:-0700
TZOFFSETTO:-0600
RDATE:20290311T020000
RDATE:20300310T020000
END:DAYLIGHT
END:VTIMEZONE
BEGIN:VEVENT
UID:060d466b-b1e0-458d-872e-3affa083964a
DTSTAMP:20260422T065148Z
DESCRIPTION:Join us for a gentle exercise class!
DTSTART;TZID=America/Denver:20281213T103000
DTEND;TZID=America/Denver:20281213T110000
LOCATION:200 South Cruse\, Helena\, MT 59601 US
SUMMARY:Chi Gong
END:VEVENT
END:VCALENDAR
