BEGIN:VCALENDAR
VERSION:2.0
PRODID:-//www.rmdc.net//NONSGML kigkonsult.se iCalcreator 2.30.10//
CALSCALE:GREGORIAN
METHOD:PUBLISH
UID:311060fd-d964-4afc-b792-114ee0a0435d
X-WR-CALDESC:Join us for a gentle exercise class!
X-WR-RELCALID:2fd6873489d2d779c413c572cbc98345
X-WR-TIMEZONE:America/Denver
BEGIN:VTIMEZONE
TZID:America/Denver
BEGIN:STANDARD
TZNAME:MST
DTSTART:20281105T020000
TZOFFSETFROM:-0600
TZOFFSETTO:-0700
RDATE:20291104T020000
END:STANDARD
BEGIN:DAYLIGHT
TZNAME:MDT
DTSTART:20280312T020000
TZOFFSETFROM:-0700
TZOFFSETTO:-0600
RDATE:20290311T020000
RDATE:20300310T020000
END:DAYLIGHT
END:VTIMEZONE
BEGIN:VEVENT
UID:ad24f864-4648-4c52-8add-41053807c5b8
DTSTAMP:20260422T082355Z
DESCRIPTION:Join us for a gentle exercise class!
DTSTART;TZID=America/Denver:20290117T103000
DTEND;TZID=America/Denver:20290117T110000
LOCATION:200 South Cruse\, Helena\, MT 59601 US
SUMMARY:Chi Gong
END:VEVENT
END:VCALENDAR
