BEGIN:VCALENDAR
VERSION:2.0
PRODID:-//www.rmdc.net//NONSGML kigkonsult.se iCalcreator 2.30.10//
CALSCALE:GREGORIAN
METHOD:PUBLISH
UID:2165b562-3cfe-4fd3-8e6f-c6b44e41f475
X-WR-CALDESC:
X-WR-RELCALID:2a985fa44490cf2aae18006db0b19715
X-WR-TIMEZONE:America/Denver
BEGIN:VTIMEZONE
TZID:America/Denver
BEGIN:STANDARD
TZNAME:MST
DTSTART:20281105T020000
TZOFFSETFROM:-0600
TZOFFSETTO:-0700
RDATE:20291104T020000
END:STANDARD
BEGIN:DAYLIGHT
TZNAME:MDT
DTSTART:20280312T020000
TZOFFSETFROM:-0700
TZOFFSETTO:-0600
RDATE:20290311T020000
RDATE:20300310T020000
END:DAYLIGHT
END:VTIMEZONE
BEGIN:VEVENT
UID:b0ba27ce-4e42-4c74-9263-1a699a3785d0
DTSTAMP:20260422T082258Z
DESCRIPTION:
DTSTART;TZID=America/Denver:20290121T130000
DTEND;TZID=America/Denver:20290121T160000
LOCATION:
SUMMARY:Pinochle
END:VEVENT
END:VCALENDAR
