BEGIN:VCALENDAR
VERSION:2.0
PRODID:-//www.rmdc.net//NONSGML kigkonsult.se iCalcreator 2.30.10//
CALSCALE:GREGORIAN
METHOD:PUBLISH
UID:07be6325-d496-4003-b938-f00f215c3e9f
X-WR-CALDESC:
X-WR-RELCALID:a033bf48c925fa0f5b833fc49ed9f5f4
X-WR-TIMEZONE:America/Denver
BEGIN:VTIMEZONE
TZID:America/Denver
BEGIN:STANDARD
TZNAME:MST
DTSTART:20281105T020000
TZOFFSETFROM:-0600
TZOFFSETTO:-0700
RDATE:20291104T020000
END:STANDARD
BEGIN:DAYLIGHT
TZNAME:MDT
DTSTART:20280312T020000
TZOFFSETFROM:-0700
TZOFFSETTO:-0600
RDATE:20290311T020000
RDATE:20300310T020000
END:DAYLIGHT
END:VTIMEZONE
BEGIN:VEVENT
UID:3ba46eba-e516-449e-a09c-139539ab7a1a
DTSTAMP:20260422T082121Z
DESCRIPTION:
DTSTART;TZID=America/Denver:20290122T130000
DTEND;TZID=America/Denver:20290122T160000
LOCATION:Dance Floor
SUMMARY:Bridge
END:VEVENT
END:VCALENDAR
