BEGIN:VCALENDAR
VERSION:2.0
PRODID:-//www.rmdc.net//NONSGML kigkonsult.se iCalcreator 2.30.10//
CALSCALE:GREGORIAN
METHOD:PUBLISH
UID:d3d1e66f-51eb-4eeb-a101-509a6d568291
X-WR-CALDESC:Join us for the Arts & Craft Class on the fourth Wednesday of 
 each month\, starting on January 28\, at the Helen Senior Center Dance Flo
 or (200 S Cruse Ave). The class is FREE\, and all supplies are included!
X-WR-RELCALID:49f41d4afb8723e4fb936709c2baa5dc
X-WR-TIMEZONE:America/Denver
BEGIN:VTIMEZONE
TZID:America/Denver
BEGIN:STANDARD
TZNAME:MST
DTSTART:20281105T020000
TZOFFSETFROM:-0600
TZOFFSETTO:-0700
RDATE:20291104T020000
END:STANDARD
BEGIN:DAYLIGHT
TZNAME:MDT
DTSTART:20280312T020000
TZOFFSETFROM:-0700
TZOFFSETTO:-0600
RDATE:20290311T020000
RDATE:20300310T020000
END:DAYLIGHT
END:VTIMEZONE
BEGIN:VEVENT
UID:4e1ac2aa-b2b2-4ebf-9639-9ceeaf47282e
DTSTAMP:20260422T082436Z
DESCRIPTION:Join us for the Arts & Craft Class on the fourth Wednesday of e
 ach month\, starting on January 28\, at the Helen Senior Center Dance Floo
 r (200 S Cruse Ave). The class is FREE\, and all supplies are included!
DTSTART;TZID=America/Denver:20290124T093000
DTEND;TZID=America/Denver:20290124T110000
LOCATION:200 South Cruse\, Helena\, AL 59601 US
SUMMARY:Art & Craft Classes
END:VEVENT
END:VCALENDAR
