BEGIN:VCALENDAR
VERSION:2.0
PRODID:-//www.rmdc.net//NONSGML kigkonsult.se iCalcreator 2.30.10//
CALSCALE:GREGORIAN
METHOD:PUBLISH
UID:f8fd0455-c201-4829-822f-87ce7a2bc331
X-WR-CALDESC:
X-WR-RELCALID:f356e10538e5cda121dd83edf5d2b1aa
X-WR-TIMEZONE:America/Denver
BEGIN:VTIMEZONE
TZID:America/Denver
BEGIN:STANDARD
TZNAME:MST
DTSTART:20281105T020000
TZOFFSETFROM:-0600
TZOFFSETTO:-0700
RDATE:20291104T020000
END:STANDARD
BEGIN:DAYLIGHT
TZNAME:MDT
DTSTART:20280312T020000
TZOFFSETFROM:-0700
TZOFFSETTO:-0600
RDATE:20290311T020000
RDATE:20300310T020000
END:DAYLIGHT
END:VTIMEZONE
BEGIN:VEVENT
UID:0be85057-19d0-461d-82e3-7899c9c9c159
DTSTAMP:20260422T082551Z
DESCRIPTION:
DTSTART;TZID=America/Denver:20290130T130000
DTEND;TZID=America/Denver:20290130T160000
LOCATION:
SUMMARY:Pinochle
END:VEVENT
END:VCALENDAR
