BEGIN:VCALENDAR
VERSION:2.0
PRODID:-//www.rmdc.net//NONSGML kigkonsult.se iCalcreator 2.30.10//
CALSCALE:GREGORIAN
METHOD:PUBLISH
UID:01858d7a-95d0-41c1-b7a2-c5346a5c61f3
X-WR-CALDESC:
X-WR-RELCALID:3ed93a66a6c113145631a24acaa14e34
X-WR-TIMEZONE:America/Denver
BEGIN:VTIMEZONE
TZID:America/Denver
BEGIN:STANDARD
TZNAME:MST
DTSTART:20281105T020000
TZOFFSETFROM:-0600
TZOFFSETTO:-0700
RDATE:20291104T020000
END:STANDARD
BEGIN:DAYLIGHT
TZNAME:MDT
DTSTART:20280312T020000
TZOFFSETFROM:-0700
TZOFFSETTO:-0600
RDATE:20290311T020000
RDATE:20300310T020000
END:DAYLIGHT
END:VTIMEZONE
BEGIN:VEVENT
UID:41fd4235-14ea-4c94-9d04-6a5816c71684
DTSTAMP:20260422T095733Z
DESCRIPTION:
DTSTART;TZID=America/Denver:20290205T130000
DTEND;TZID=America/Denver:20290205T160000
LOCATION:Dance Floor
SUMMARY:Bridge
END:VEVENT
END:VCALENDAR
