BEGIN:VCALENDAR
VERSION:2.0
PRODID:-//www.rmdc.net//NONSGML kigkonsult.se iCalcreator 2.30.10//
CALSCALE:GREGORIAN
METHOD:PUBLISH
UID:0178f431-78fd-46d3-a604-cf02dc2a4af9
X-WR-CALDESC:
X-WR-RELCALID:b66bf85884a11a942ced717f7860eb0e
X-WR-TIMEZONE:America/Denver
BEGIN:VTIMEZONE
TZID:America/Denver
BEGIN:STANDARD
TZNAME:MST
DTSTART:20281105T020000
TZOFFSETFROM:-0600
TZOFFSETTO:-0700
RDATE:20291104T020000
END:STANDARD
BEGIN:DAYLIGHT
TZNAME:MDT
DTSTART:20280312T020000
TZOFFSETFROM:-0700
TZOFFSETTO:-0600
RDATE:20290311T020000
RDATE:20300310T020000
END:DAYLIGHT
END:VTIMEZONE
BEGIN:VEVENT
UID:e43d6ae4-12a8-4103-80bc-44117cf1fa29
DTSTAMP:20260422T100325Z
DESCRIPTION:
DTSTART;TZID=America/Denver:20290213T130000
DTEND;TZID=America/Denver:20290213T160000
LOCATION:
SUMMARY:Pinochle
END:VEVENT
END:VCALENDAR
