BEGIN:VCALENDAR
VERSION:2.0
PRODID:-//www.rmdc.net//NONSGML kigkonsult.se iCalcreator 2.30.10//
CALSCALE:GREGORIAN
METHOD:PUBLISH
UID:be4a6fa8-5a08-45ec-8da7-7b42d66132ef
X-WR-CALDESC:Join us for a gentle exercise class!
X-WR-RELCALID:195a6aba458ddb461996c70f44a0cc2e
X-WR-TIMEZONE:America/Denver
BEGIN:VTIMEZONE
TZID:America/Denver
BEGIN:STANDARD
TZNAME:MST
DTSTART:20281105T020000
TZOFFSETFROM:-0600
TZOFFSETTO:-0700
RDATE:20291104T020000
END:STANDARD
BEGIN:DAYLIGHT
TZNAME:MDT
DTSTART:20280312T020000
TZOFFSETFROM:-0700
TZOFFSETTO:-0600
RDATE:20290311T020000
RDATE:20300310T020000
END:DAYLIGHT
END:VTIMEZONE
BEGIN:VEVENT
UID:4fd47888-d5a9-4132-991f-278595751ec1
DTSTAMP:20260422T100027Z
DESCRIPTION:Join us for a gentle exercise class!
DTSTART;TZID=America/Denver:20290221T103000
DTEND;TZID=America/Denver:20290221T110000
LOCATION:200 South Cruse\, Helena\, MT 59601 US
SUMMARY:Chi Gong
END:VEVENT
END:VCALENDAR
