BEGIN:VCALENDAR
VERSION:2.0
PRODID:-//www.rmdc.net//NONSGML kigkonsult.se iCalcreator 2.30.10//
CALSCALE:GREGORIAN
METHOD:PUBLISH
UID:7e8aebea-f3c2-4b8f-84be-ffaa3d01d217
X-WR-CALDESC:
X-WR-RELCALID:36ff45685fc001c03d747e8af26b1ec5
X-WR-TIMEZONE:America/Denver
BEGIN:VTIMEZONE
TZID:America/Denver
BEGIN:STANDARD
TZNAME:MST
DTSTART:20281105T020000
TZOFFSETFROM:-0600
TZOFFSETTO:-0700
RDATE:20291104T020000
END:STANDARD
BEGIN:DAYLIGHT
TZNAME:MDT
DTSTART:20280312T020000
TZOFFSETFROM:-0700
TZOFFSETTO:-0600
RDATE:20290311T020000
RDATE:20300310T020000
END:DAYLIGHT
END:VTIMEZONE
BEGIN:VEVENT
UID:a3809c8f-eb4d-4223-9225-86a7173ba3f4
DTSTAMP:20260422T100007Z
DESCRIPTION:
DTSTART;TZID=America/Denver:20290227T091500
DTEND;TZID=America/Denver:20290227T111500
LOCATION:Neighborhood Center Dance Floor
SUMMARY:Line Dancing
END:VEVENT
END:VCALENDAR
